BEGIN:VCALENDAR
VERSION:2.0
PRODID:-//Willkommen auf unserer Homepage - ECPv6.15.20//NONSGML v1.0//EN
CALSCALE:GREGORIAN
METHOD:PUBLISH
X-WR-CALNAME:Willkommen auf unserer Homepage
X-ORIGINAL-URL:https://ifaas.info
X-WR-CALDESC:Veranstaltungen für Willkommen auf unserer Homepage
REFRESH-INTERVAL;VALUE=DURATION:PT1H
X-Robots-Tag:noindex
X-PUBLISHED-TTL:PT1H
BEGIN:VTIMEZONE
TZID:Europe/Berlin
BEGIN:DAYLIGHT
TZOFFSETFROM:+0100
TZOFFSETTO:+0200
TZNAME:CEST
DTSTART:20260329T010000
END:DAYLIGHT
BEGIN:STANDARD
TZOFFSETFROM:+0200
TZOFFSETTO:+0100
TZNAME:CET
DTSTART:20261025T010000
END:STANDARD
BEGIN:DAYLIGHT
TZOFFSETFROM:+0100
TZOFFSETTO:+0200
TZNAME:CEST
DTSTART:20270328T010000
END:DAYLIGHT
BEGIN:STANDARD
TZOFFSETFROM:+0200
TZOFFSETTO:+0100
TZNAME:CET
DTSTART:20271031T010000
END:STANDARD
BEGIN:DAYLIGHT
TZOFFSETFROM:+0100
TZOFFSETTO:+0200
TZNAME:CEST
DTSTART:20280326T010000
END:DAYLIGHT
BEGIN:STANDARD
TZOFFSETFROM:+0200
TZOFFSETTO:+0100
TZNAME:CET
DTSTART:20281029T010000
END:STANDARD
END:VTIMEZONE
BEGIN:VEVENT
DTSTART;TZID=Europe/Berlin:20270218T080000
DTEND;TZID=Europe/Berlin:20270219T170000
DTSTAMP:20260423T123433
CREATED:20250716T150219Z
LAST-MODIFIED:20251126T113849Z
UID:1128-1802937600-1803056400@ifaas.info
SUMMARY:Fortbildung gemäß EfbV\, AbfAEV sowie AbfBeauftrV
DESCRIPTION:Fortbildung gemäß EfbV\, AbfAEV sowie AbfBeauftrV  \nFortbildung für verantwortliche Personen im\nEntsorgungsfachbetrieb gem.  § 9 Abs. 1 und Abs. 3 EfbV\,\nSammler\, Beförderer\, Händler und Makler gem. § 4 Abs. 5 und § 5 Abs. 3 AbfAEV sowie\nAbfallbeauftragte gem. § 9 Abs. 2 AbfBeauftrV \n\nin Zusammenarbeit mit dem VHE-Nord e.V.\n\n18./ 19. Februar 2027 \nIFAAS e.V. Suderburger Abfall-Seminar (SAS) zweitägige Präsenz-Fortbildung gemäß EfbV\, AbfAEV sowie AbfBeauftrV  \nim Parkhotel Berghölzchen\, Am Berghölzchen 1\, 31139 Hildesheim  \nfür Bio-/Grünabfallbehandlungsbetriebe (Kompostierungsanlagen)\, Logistikbetriebe und Anlagenbetriebe \nSeminarprogramm\n– folgt \nSeminaranmeldung 18./ 19. Februar 2027\n– folgt\n \nIFAAS SAS Allgemeine Veranstaltungsbedingungen\nIFAAS SAS Allgemeine Veranstaltungsbedingungen 2023-02-20 \nBei Fragen zum Seminar\, zur Anmeldung und zur Teilnahme nehmen Sie gerne Kontakt mit uns auf:\nE-Mail  kontakt@ifaas.info\nTelefon 01577 2934113
URL:https://ifaas.info/event/fortbildung-gemaess-efbv-abfaev-sowie-abfbeauftrv
LOCATION:Parkhotel Berghölzchen\, Am Berghölzchen 1\, Hildesheim\, 31139\, Deutschland
CATEGORIES:Efb-Folgelehrgang,Efb-Folgeseminar,Suderburger Abfall-Seminar
ORGANIZER;CN="IFAAS e.V.":MAILTO:kontakt@ifaas.info
END:VEVENT
END:VCALENDAR